
BEGIN:VCALENDAR
VERSION:2.0
PRODID:-//Lärtorget - ECPv6.15.18//NONSGML v1.0//EN
CALSCALE:GREGORIAN
METHOD:PUBLISH
X-WR-CALNAME:Lärtorget
X-ORIGINAL-URL:https://lartorget.goteborg.se
X-WR-CALDESC:Händelser för Lärtorget
REFRESH-INTERVAL;VALUE=DURATION:PT1H
X-Robots-Tag:noindex
X-PUBLISHED-TTL:PT1H
BEGIN:VTIMEZONE
TZID:Europe/Stockholm
BEGIN:DAYLIGHT
TZOFFSETFROM:+0100
TZOFFSETTO:+0200
TZNAME:CEST
DTSTART:20240331T010000
END:DAYLIGHT
BEGIN:STANDARD
TZOFFSETFROM:+0200
TZOFFSETTO:+0100
TZNAME:CET
DTSTART:20241027T010000
END:STANDARD
BEGIN:DAYLIGHT
TZOFFSETFROM:+0100
TZOFFSETTO:+0200
TZNAME:CEST
DTSTART:20250330T010000
END:DAYLIGHT
BEGIN:STANDARD
TZOFFSETFROM:+0200
TZOFFSETTO:+0100
TZNAME:CET
DTSTART:20251026T010000
END:STANDARD
BEGIN:DAYLIGHT
TZOFFSETFROM:+0100
TZOFFSETTO:+0200
TZNAME:CEST
DTSTART:20260329T010000
END:DAYLIGHT
BEGIN:STANDARD
TZOFFSETFROM:+0200
TZOFFSETTO:+0100
TZNAME:CET
DTSTART:20261025T010000
END:STANDARD
END:VTIMEZONE
BEGIN:VEVENT
DTSTART;TZID=Europe/Stockholm:20251113T100000
DTEND;TZID=Europe/Stockholm:20251113T154500
DTSTAMP:20260420T143547
CREATED:20251008T083529Z
LAST-MODIFIED:20251008T084207Z
UID:20090-1763028000-1763048700@lartorget.goteborg.se
SUMMARY:Intresserad av lekresponsiv undervisning i förskolan?
DESCRIPTION:Välkommen till avslutningskonferens för forskarskolan PRECEC – Utbildning för lekresponsiv undervisning i förskolan för social och kulturell hållbarhet! \nKonferensen riktar sig till alla som intresserar sig för förskola och förskoleforskning – lärare och forskare\, personal och rektorer i förskola och förskoleklass. \nOBS! Sista dag för anmälan är 6 november!
URL:https://lartorget.goteborg.se/event/intresserad-av-lekresponsiv-undervisning-i-forskolan/
LOCATION:Göteborgs universitet\, Pedagogen
CATEGORIES:Konferens
ATTACH;FMTTYPE=image/jpeg:https://lartorget.goteborg.se/wp-content/uploads/2025/10/banner.jpg
ORGANIZER;CN="IPKL%2C G%C3%B6teborgs universitet":MAILTO:karin.lager@ped.gu.se
END:VEVENT
END:VCALENDAR