
BEGIN:VCALENDAR
VERSION:2.0
PRODID:-//Lärtorget - ECPv6.15.18//NONSGML v1.0//EN
CALSCALE:GREGORIAN
METHOD:PUBLISH
X-ORIGINAL-URL:https://lartorget.goteborg.se
X-WR-CALDESC:Händelser för Lärtorget
REFRESH-INTERVAL;VALUE=DURATION:PT1H
X-Robots-Tag:noindex
X-PUBLISHED-TTL:PT1H
BEGIN:VTIMEZONE
TZID:Europe/Stockholm
BEGIN:DAYLIGHT
TZOFFSETFROM:+0100
TZOFFSETTO:+0200
TZNAME:CEST
DTSTART:20230326T010000
END:DAYLIGHT
BEGIN:STANDARD
TZOFFSETFROM:+0200
TZOFFSETTO:+0100
TZNAME:CET
DTSTART:20231029T010000
END:STANDARD
BEGIN:DAYLIGHT
TZOFFSETFROM:+0100
TZOFFSETTO:+0200
TZNAME:CEST
DTSTART:20240331T010000
END:DAYLIGHT
BEGIN:STANDARD
TZOFFSETFROM:+0200
TZOFFSETTO:+0100
TZNAME:CET
DTSTART:20241027T010000
END:STANDARD
BEGIN:DAYLIGHT
TZOFFSETFROM:+0100
TZOFFSETTO:+0200
TZNAME:CEST
DTSTART:20250330T010000
END:DAYLIGHT
BEGIN:STANDARD
TZOFFSETFROM:+0200
TZOFFSETTO:+0100
TZNAME:CET
DTSTART:20251026T010000
END:STANDARD
END:VTIMEZONE
BEGIN:VEVENT
DTSTART;TZID=Europe/Stockholm:20241001T100000
DTEND;TZID=Europe/Stockholm:20241001T163000
DTSTAMP:20260421T121809
CREATED:20240909T151735Z
LAST-MODIFIED:20240909T152212Z
UID:18686-1727776800-1727800200@lartorget.goteborg.se
SUMMARY:Kostnadsfri lärarkonferens om laborativ NO
DESCRIPTION:Workshops och föredrag om intresseväckande och laborativ NO-undervisning för lärare i årskurs 1–6\nDen 1 oktober anordnar Vetenskapsfestivalen en heldag med fokus på naturvetenskapliga ämnen. Målgruppen är lärare som undervisar i NO på låg- och mellanstadiet. Ta del av intressanta föreläsningar och praktiska workshops som ger dig kvalitativ fortbildning med fördjupande ämneskunskaper och träffa andra inom målgruppen och utbyt erfarenheter och idéer. Allt detta helt kostnadsfritt! Dessutom bjuder vi på fika och lunch och det finns relevanta utställare på plats för att tipsa om NO-läromedel. \nFöredragen sker i storsamling men alla workshops är valbara och ligger parallellt under pass på förmiddagen och eftermiddagen. När du anmäler dig till konferensen gör du samtidigt val av workshops. Platserna till varje workshop är begränsat\, men du kommer få plats i någon av dem. \nKonferensen äger rum på Chalmers Campus Johanneberg\, centralt i Göteborg och start- och sluttid är 9:00 till ca 16:30. Mer detaljerad info om program\, schema\, vägbeskrivning mm kommer efter anmälan. \nSista anmälningsdag är fredag den 27 september. \nHär kan du läsa mer om hela programmet och anmäla dig. \nKonferensen är möjlig tack vara stöd från Tage Swahns Stiftelse för Undervisning och Forskning och Chalmers Tekniska högskola. \nFöredrag under dagen\nUlf Ellervik \nFöredrag: Vatten är ett farligt gift!\nMålgrupp och antal: Alla deltagare! Tid: ca 30 min\nVatten är ett fullständigt unikt kemiskt ämne och verkar vara en nödvändighet för att liv ska kunna existera. Samtidigt kan man faktiskt avlida av vattenförgiftning. Hur är detta möjligt? \nUlf Ellervik berättar levande om ett av universums häftigaste kemiska ämnen och ger dig inspiration till att jobba med temat hemma i klassrummet. \nMedverkande: Ulf Ellervik är professor i bioorganisk kemi vid Lunds universitet. Ulf är en engagerad och uppskattad kunskapsspridare inom kemins område\, både för studerande och för allmänheten. Han är bland annat känd från SVT:s Fråga Lund samt den populärvetenskapliga boken ”Ond Kemi”\, 2011. \n  \nElin Gädda \nFöredrag: Roligare ute\nMålgrupp och antal: Alla deltagare! Tid: ca 30 min\nMöt Elin Gädda som är en av årets Ingvar Lindqvistpristagare – ett prestigefullt lärarpris som delas ut av Kungl. Vetenskapsakademien. Elin älskar att undervisa utomhus i alla ämnen! Hennes ambition är att vara i skogen med sin klass varannan fredag och ha lektioner samt laga lunch över elden. Alla elever mår bra av utomhuspedagogik men framför allt gynnas de elever med läs-\, skriv- och koncentrationssvårigheter. Utomhus bygger lärandet på samarbete och rörelse. \nElin kommer att prata om utomhus- och äventyrspedagogik samt ge konkreta exempel på övningar att göra utomhus. Hon hoppas kunna inspirera fler till att flytta ut undervisningen! \nMedverkande: Elin Gädda är lågstadielärare på F-3 skolan Rälsen Norrviken i Sollentuna. Hon är behörig i idrott och hälsa\, svenska\, matematik\, NO\, teknik\, SO och engelska. Elin är en av 2024 års vinnare av Ingvar Lindqvistprisen för lärare som brinner för matematik och naturvetenskap. Dessa pris är instiftade av Kungl. Vetenskapsakademien som vill visa på lärarnas viktiga roll i samhället. \n  \n\nFöredrag: FysikLek – en inspirerande vetenskapsupplevelse för unga\nMålgrupp och antal: Alla deltagare! Tid: ca 30 min\nFysikLek på Chalmers och Göteborgs universitet erbjuder en unik möjlighet för unga besökare att utforska och väcka sitt intresse för naturvetenskap. Genom att delta i olika experiment får de chansen att på ett lekfullt och interaktivt sätt fördjupa sin förståelse för fysik och teknik. Vår verksamhet främjar samarbete och nyfikenhet genom spännande och engagerande aktiviteter som uppmuntrar till lärande och upptäckande. \nMedverkande: Jonas Enger är universitetslektor vid institutionen för fysik vid Göteborgs universitet men har också lång erfarenhet som gymnasielärare och skolledare. Jonas är även programföreträdare för Ämneslärarprogrammet vid Göteborgs universitet och hans forskning är inriktad mot Physics Education Research (PER) där han med sina doktorander bland annat fokuserar på hur visualisering av olika koncept i fysikundervisning kan stödja lärande. Ett syfte med forskningen är att utveckla och undersöka kritiska aspekter\, experiment och simuleringar som sätts samman i lektionssekvenser som kan användas i gymnasieskolor och lärarutbildning. \nMagnus Karlsteen är docent vid Chalmers tekniska högskola med bred erfarenhet inom fysik och pedagogisk utveckling. Han är delansvarig för FysikLek som syftar till att väcka intresse för naturvetenskap hos unga genom lekfulla och praktiska experiment. Magnus är projektledare för Chalmers Riksidrottsuniversitet (RIU). Han forskar inom sportteknologi med fokus på häst\, samt inom AI och tandvård. Han forskar även tillsammans med SLU kring artros\, där han undersöker nya teknologier för att förbättra både behandling och förståelse av detta ledproblem\, samt om Brachycephalic Obstructive Airway Syndrome hos kortnosiga hundar. \n  \nPernilla Nilsson \nFöredrag: Naturvetenskaplig kunskap för framtidens medborgare – Hur\, vad och varför?\nMålgrupp och antal: Alla deltagare! Tid: ca 30 min\nVåra elever möter en alltmer komplex värld där samhällsutmaningar så som klimatförändringar\, digitalisering\, ohälsa och antidemokratiska krafter påverkar deras dagliga liv. Hur kan man då som lärare undervisa för att stärka elevers handlingskompetens och förståelse för välden runtomkring dem? I föreläsningen ges exempel på hur lärare kan reflektera över sin undervisning i naturvetenskap samt vilka kunskaper och förmågor som elever behöver utveckla för att bli naturvetenskapligt allmänbildade medborgare. \nMedverkande: \nPernilla Nilsson är professor i naturvetenskapernas didaktik vid Högskolan i Halmstad. Hon är också huvudsekreterare för utbildningsvetenskap vid Vetenskapsrådet. Under de senaste 20 åren har hon forskat med och för lärare och lärarstudenter för att identifiera och förstå den unika kunskap som lärare behöver för att stimulera barns och elevers lärande i naturvetenskap. Hon forskar också om hur digitala verktyg kan främja elevers lärande samt de utmaningar och möjligheter digitaliseringen innebär för skolan. \nValbara workshops under dagen\nUnder ett pass på förmiddagen och ett pass på eftermiddagen kan du välja mellan nio workshops. Det är samma workshops under förmiddags- och eftermiddagspasset.  Du kan läsa mer om alla workshops på Vetenskapsfestivalens webbsida. \n\nFascinerande anpassningar\nKattdjur i fokus – evolutionens mekanismer\nSåpbubblor och kemi\nGrundläggande kemi i praktiken\nFenomenet ljud!\nRoliga experiment kring värme och temperatur\nAtt härma naturen – arbete med hållbar utveckling och biomimik\nFysikLek – En inspirerande vetenskapsupplevelse för unga\nAtt arbeta med Bedömningsstöd i NO för årskurs 6\n\n  \nPå Vetenskapsfestivalens webbsida kan du läsa mer om den kostnadsfria lärarkonferensen om laborativ NO. Där hittar du också länk till anmälan.
URL:https://lartorget.goteborg.se/event/kostnadsfri-lararkonferens-om-laborativ-no/
LOCATION:Chalmers\, Campus Johanneberg
CATEGORIES:föreläsning,Fortbildning,Konferens,Mötesplats,Nätverksträff,Workshop
ATTACH;FMTTYPE=image/jpeg:https://lartorget.goteborg.se/wp-content/uploads/2024/09/Lartorget.jpg
END:VEVENT
BEGIN:VEVENT
DTSTART;TZID=Europe/Stockholm:20241011T080000
DTEND;TZID=Europe/Stockholm:20241011T170000
DTSTAMP:20260421T121809
CREATED:20240918T141141Z
LAST-MODIFIED:20240918T141141Z
UID:18724-1728633600-1728666000@lartorget.goteborg.se
SUMMARY:Global konferens om barns och ungdomars psykiska hälsa
DESCRIPTION:Välkommen på en global konferens om barns och ungdomars psykiska hälsa vid Göteborgs universitet! \nGöteborgs universitet har tagit emot en donation för att inrätta Drottning Silvias professur i global barn- och ungdomshälsa\, med särskilt fokus på psykisk hälsa. Denna konferens är starten på universitetets långsiktiga åtagande att utöka och fördjupa tvärvetenskapliga initiativ i Göteborgsområdet med fokus på global barn- och ungdomshälsa. \nKonferensens fokusområden är vilka initiativ som akademin och samhället gemensamt kan genomföra för att utveckla och implementera program för att förbättra barns och ungdomars psykiska hälsa\, och därmed bidra till en hållbar utveckling i linje med Agenda 2030. \nMålgrupp\nVi välkomnar alla berörda forskare\, praktiker\, organisationer och andra aktörer i Göteborgsområdet för att bygga en långsiktig\, innovativ\, stark och unik miljö som inkluderar forskning\, utbildning och samarbete kring global barn- och ungdomshälsa. \nKonferensen kommer att hållas på engelska.
URL:https://lartorget.goteborg.se/event/global-konferens-om-barns-och-ungdomars-psykiska-halsa/
LOCATION:Malstenssalen\, Handelshögskolan\, Vasagatan 1\, Göteborg\, 411 24
CATEGORIES:Konferens
ATTACH;FMTTYPE=image/jpeg:https://lartorget.goteborg.se/wp-content/uploads/2024/09/perception-7548978_1280.jpg
END:VEVENT
END:VCALENDAR