
BEGIN:VCALENDAR
VERSION:2.0
PRODID:-//Lärtorget - ECPv6.15.18//NONSGML v1.0//EN
CALSCALE:GREGORIAN
METHOD:PUBLISH
X-WR-CALNAME:Lärtorget
X-ORIGINAL-URL:https://lartorget.goteborg.se
X-WR-CALDESC:Händelser för Lärtorget
REFRESH-INTERVAL;VALUE=DURATION:PT1H
X-Robots-Tag:noindex
X-PUBLISHED-TTL:PT1H
BEGIN:VTIMEZONE
TZID:Europe/Stockholm
BEGIN:DAYLIGHT
TZOFFSETFROM:+0100
TZOFFSETTO:+0200
TZNAME:CEST
DTSTART:20230326T010000
END:DAYLIGHT
BEGIN:STANDARD
TZOFFSETFROM:+0200
TZOFFSETTO:+0100
TZNAME:CET
DTSTART:20231029T010000
END:STANDARD
BEGIN:DAYLIGHT
TZOFFSETFROM:+0100
TZOFFSETTO:+0200
TZNAME:CEST
DTSTART:20240331T010000
END:DAYLIGHT
BEGIN:STANDARD
TZOFFSETFROM:+0200
TZOFFSETTO:+0100
TZNAME:CET
DTSTART:20241027T010000
END:STANDARD
BEGIN:DAYLIGHT
TZOFFSETFROM:+0100
TZOFFSETTO:+0200
TZNAME:CEST
DTSTART:20250330T010000
END:DAYLIGHT
BEGIN:STANDARD
TZOFFSETFROM:+0200
TZOFFSETTO:+0100
TZNAME:CET
DTSTART:20251026T010000
END:STANDARD
END:VTIMEZONE
BEGIN:VEVENT
DTSTART;TZID=Europe/Stockholm:20240425T130000
DTEND;TZID=Europe/Stockholm:20240425T170000
DTSTAMP:20260421T214830
CREATED:20240322T120434Z
LAST-MODIFIED:20240322T120434Z
UID:17957-1714050000-1714064400@lartorget.goteborg.se
SUMMARY:PopUpDig: Lärares arbete i den postdigitala skolan
DESCRIPTION:PopUpDig är en återkommande konferens öppen för alla som arbetar med eller har intresse av digitalisering i förskolan och skolan. \nNumera är skolan i likhet med andra institutioner och verksamheter en digital men också en analog miljö\, något som kan beskrivas som en postdigital skola.  Den postdigitala skolan har många utmaningar\, inte minst i relation till hur digitala redskap kan stödja en likvärdig skola och undervisning som syftar till att utveckla kritiskt tänkande individer med kompetenser att förstå och verka i ett allt mer komplext samhälle. \nHuvudtalare: Catarina Player-Koro\, professor vid Utbildningsvetenskapliga fakulteten\, Göteborgs universitet \nSpår 1: Skärmfri förskola: Varför då? \nMedverkande: Malin Nilsen\, universitetslektor i pedagogik vid Göteborgs universitet\, Petra Petersen\, universitetslektor i förskoledidaktik vid Stockholms universitet och Emelie Patron\, universitetslektor i pedagogik vid Linnéuniversitetet. Moderator: Ewa Skantz Åberg\, universitetslektor i barn- och ungdomsvetenskap vid Göteborgs universitet. \nSpår 2: AI i skolan – revolution eller evolution? \nMedverkande: Lena Pareto\, professor i pedagogik och Sylvana Sofkova Hashemi\, docent i utbildningsvetenskap med inriktning informationsteknologi\, båda vid Göteborgs universitet och bedriver praktiknära forskning om digitalt lärande i utbildningssammanhang. \nSpår 3: Digital teknik i lärarjobbet – balans mellan krav och stöd? \nMedverkande: Mona Lundin\, professor i pedagogik\, Catarina Player-Koro\, professor i pedagogiskt arbete\, Annika Bergviken Rensfeldt\, docent i pedagogik\, Johan Sandén\, postdoktor i offenltig förvaltning\, alla vid Göteborgs universitet. \ngu.se: Fullständigt program\, anmälan och mera information \n 
URL:https://lartorget.goteborg.se/event/popupdig-larares-arbete-i-den-postdigitala-skolan/
LOCATION:Pedagogen\, Hus C\, Läroverksgatan 5\, Göteborg
CATEGORIES:Konferens
ATTACH;FMTTYPE=image/jpeg:https://lartorget.goteborg.se/wp-content/uploads/2024/03/ai-generated-792.jpg
END:VEVENT
END:VCALENDAR