
BEGIN:VCALENDAR
VERSION:2.0
PRODID:-//Lärtorget - ECPv6.15.18//NONSGML v1.0//EN
CALSCALE:GREGORIAN
METHOD:PUBLISH
X-WR-CALNAME:Lärtorget
X-ORIGINAL-URL:https://lartorget.goteborg.se
X-WR-CALDESC:Händelser för Lärtorget
REFRESH-INTERVAL;VALUE=DURATION:PT1H
X-Robots-Tag:noindex
X-PUBLISHED-TTL:PT1H
BEGIN:VTIMEZONE
TZID:Europe/Stockholm
BEGIN:DAYLIGHT
TZOFFSETFROM:+0100
TZOFFSETTO:+0200
TZNAME:CEST
DTSTART:20220327T010000
END:DAYLIGHT
BEGIN:STANDARD
TZOFFSETFROM:+0200
TZOFFSETTO:+0100
TZNAME:CET
DTSTART:20221030T010000
END:STANDARD
BEGIN:DAYLIGHT
TZOFFSETFROM:+0100
TZOFFSETTO:+0200
TZNAME:CEST
DTSTART:20230326T010000
END:DAYLIGHT
BEGIN:STANDARD
TZOFFSETFROM:+0200
TZOFFSETTO:+0100
TZNAME:CET
DTSTART:20231029T010000
END:STANDARD
BEGIN:DAYLIGHT
TZOFFSETFROM:+0100
TZOFFSETTO:+0200
TZNAME:CEST
DTSTART:20240331T010000
END:DAYLIGHT
BEGIN:STANDARD
TZOFFSETFROM:+0200
TZOFFSETTO:+0100
TZNAME:CET
DTSTART:20241027T010000
END:STANDARD
END:VTIMEZONE
BEGIN:VEVENT
DTSTART;TZID=Europe/Stockholm:20230308T130000
DTEND;TZID=Europe/Stockholm:20230308T160000
DTSTAMP:20260422T210251
CREATED:20221220T153336Z
LAST-MODIFIED:20221229T100748Z
UID:15375-1678280400-1678291200@lartorget.goteborg.se
SUMMARY:Workshop: Hur får vi dem att röra på sig?
DESCRIPTION:Rörelseovana barn och ungdomar\nMånga av oss inom skolans och hälso- och sjukvårdens värld jobbar med att få barn och ungdomar att röra på sig. Ofta träffar vi på barn och ungdomar som är rörelseovana\, som befinner sig i ett motoriskt utanförskap\, som saknar eller har en svag rörelseidentitet. En del med diagnoser som DCD\, ADHD\, andra utan… Oavsett kan detta leda vidare till uppförsbacken\, olusten\, rädslan\, till alla NEJ\, vreden och ytterligare utanförskap… Hur får vi ändring på detta? \nInsikter och verktyg\nUtbildningen vill ge insikter och verktyg kring vilka barnen är och hur de upptäcks\, vilka utmaningar de kämpar med samt när de behöver hänvisas vidare. Vi belyser även hur man som medarbetare kan jobba enskilt och i grupp med dessa barn samt hur rörelseaktiviteter som inkluderar ALLA barn/ungdomar kan designas. \nFöreläsare:\n\nStaffan Hjalmarsson\, lärare i idrott o Hälsa\, speciallärare\, coach och ergonom.\n– Det är så viktigt att bli sedd och uppskattad. Sambandet mellan att våga\, att vilja och att kunna är så centralt i arbetet med att bygga en mer rörelserik vardag för alla våra barn och ungdomar. Jag tror att det händer något i oss när vi förstår att vi är värdefulla.\nStina Törner\, Leg. Fysioterapeut\, MSc\, Specialist pediatrik\, Drottning Silvias barn- och ungdomssjukhus.\n– Att upptäcka barnen i utkanten och inte låta dem trilla emellan stolar eller komma i kläm är viktigt för att nå en jämlik hälsa. Med min föreläsning hoppas jag att vi alla får på oss “rörelseglasögonen” så att vi tidigt hittar barnen som inte rör på sig och ser möjligheter för rörelse och glädje.\nAnna Orwallius\, Emma Henning och Linnea Abenius\, Leg. Fysioterapeuter\, Centrum för fysisk aktivitet\, Västra Götalandsregionen\n– Vi introducerar\, modererar och sammanfattar dagen.\n\n  \nFöreläsningar blandas med stunder för reflektion och dialog. \nKostnadsfritt! En kostnad på 300 kronor tas dock ut om deltagaren uteblir. \nMåltider: Fika ingår!
URL:https://lartorget.goteborg.se/event/workshop-hur-far-vi-dem-att-rora-pa-sig/
LOCATION:Stationshuset konferens\, lokal Lejonet\, Bergslagsgatan 2\, Göteborg\, Sverige
CATEGORIES:föreläsning,Fortbildning,Konferens,Utbildning,Workshop
ATTACH;FMTTYPE=image/jpeg:https://lartorget.goteborg.se/wp-content/uploads/2022/12/bella-the-brave-KZ-jWI55PCY-unsplash-beskuren-scaled.jpg
ORGANIZER;CN="Centrum f%C3%B6r fysisk aktivitet G%C3%B6teborg%2C V%C3%A4stra G%C3%B6talandsregionen":MAILTO:far-teamet@vgregion.se
END:VEVENT
END:VCALENDAR