
BEGIN:VCALENDAR
VERSION:2.0
PRODID:-//Lärtorget - ECPv6.15.18//NONSGML v1.0//EN
CALSCALE:GREGORIAN
METHOD:PUBLISH
X-WR-CALNAME:Lärtorget
X-ORIGINAL-URL:https://lartorget.goteborg.se
X-WR-CALDESC:Händelser för Lärtorget
REFRESH-INTERVAL;VALUE=DURATION:PT1H
X-Robots-Tag:noindex
X-PUBLISHED-TTL:PT1H
BEGIN:VTIMEZONE
TZID:Europe/Stockholm
BEGIN:DAYLIGHT
TZOFFSETFROM:+0100
TZOFFSETTO:+0200
TZNAME:CEST
DTSTART:20220327T010000
END:DAYLIGHT
BEGIN:STANDARD
TZOFFSETFROM:+0200
TZOFFSETTO:+0100
TZNAME:CET
DTSTART:20221030T010000
END:STANDARD
BEGIN:DAYLIGHT
TZOFFSETFROM:+0100
TZOFFSETTO:+0200
TZNAME:CEST
DTSTART:20230326T010000
END:DAYLIGHT
BEGIN:STANDARD
TZOFFSETFROM:+0200
TZOFFSETTO:+0100
TZNAME:CET
DTSTART:20231029T010000
END:STANDARD
BEGIN:DAYLIGHT
TZOFFSETFROM:+0100
TZOFFSETTO:+0200
TZNAME:CEST
DTSTART:20240331T010000
END:DAYLIGHT
BEGIN:STANDARD
TZOFFSETFROM:+0200
TZOFFSETTO:+0100
TZNAME:CET
DTSTART:20241027T010000
END:STANDARD
END:VTIMEZONE
BEGIN:VEVENT
DTSTART;TZID=Europe/Stockholm:20230126T090000
DTEND;TZID=Europe/Stockholm:20230126T160000
DTSTAMP:20260423T003345
CREATED:20221101T122943Z
LAST-MODIFIED:20221101T123314Z
UID:15104-1674723600-1674748800@lartorget.goteborg.se
SUMMARY:Barns delaktighet och inflytande för ett hållbart samhälle
DESCRIPTION:När barns delaktighet och inflytande är utgångspunkt så främjas ett hållbart perspektiv på utbildning. Men vad har leken för roll i detta? På nätverkskonferensen kommer ni få lyssna till forskare som på olika sätt lyfter fram/synliggör barns agentskap i lek där delaktighet\, inflytande och hållbarhet är centralt. Under eftermiddagen kommer boken ”Den lekande undervisade läraren” att presenteras och det blir också paneldebatt med de lärare som bidragit med kapitel till boken. \nProgram\n\n9:20 – 10:05 Leken som arena för delaktighet och inflytande\, Cecilia Wallerstedt & Pernilla Lagerlöf\n10:05 – 10:30 Kaffe\n10:30 – 11:15 Barns delaktighet och inflytande i arbetet för hållbarhet\, Eva Ärlemalm-Hagsér\n11:15 – 12:00 Lika barn leka bäst? Om barns tillhörighet i förskolan – från de yrkesverksammas perspektiv\, Eva Johansson\n12:00 – 13:00 Lunch\n13:00 – 14.30 Bokrelease och paneldebatt: ”Den lekande undervisande läraren”\n14:30 – 15:00 Kaffe\n15:00 – 16:00 Framåtblickar\, Niklas Pramling och Cecilia Wallerstedt\n\nÖvrigt\nKonferensen är kostnadsfri för nätverkets medlemmar och kostar 500 kr för övriga. \nAnmälan är bindande\, men du kan överlåta din plats till någon annan. Kaffe och fika ingår. Lunch ingår ej.
URL:https://lartorget.goteborg.se/event/barns-delaktighet-och-inflytande-for-ett-hallbart-samhalle/
LOCATION:Kjell Härnqvist-salen\, i Pedagogens A-hus vid Grönsakstorget.\, Västra Hamngatan 25\, Göteborg\, Sverige
CATEGORIES:föreläsning,Konferens
ATTACH;FMTTYPE=image/jpeg:https://lartorget.goteborg.se/wp-content/uploads/2022/11/kids-g843dc69e8_1920.jpg
END:VEVENT
END:VCALENDAR